BEGIN:VCALENDAR
VERSION:2.0
PRODID:-//Nine Mile Brewing - ECPv6.15.20//NONSGML v1.0//EN
CALSCALE:GREGORIAN
METHOD:PUBLISH
X-WR-CALNAME:Nine Mile Brewing
X-ORIGINAL-URL:https://9milebrewing.com
X-WR-CALDESC:Events for Nine Mile Brewing
REFRESH-INTERVAL;VALUE=DURATION:PT1H
X-Robots-Tag:noindex
X-PUBLISHED-TTL:PT1H
BEGIN:VTIMEZONE
TZID:America/Chicago
BEGIN:DAYLIGHT
TZOFFSETFROM:-0600
TZOFFSETTO:-0500
TZNAME:CDT
DTSTART:20250309T080000
END:DAYLIGHT
BEGIN:STANDARD
TZOFFSETFROM:-0500
TZOFFSETTO:-0600
TZNAME:CST
DTSTART:20251102T070000
END:STANDARD
BEGIN:DAYLIGHT
TZOFFSETFROM:-0600
TZOFFSETTO:-0500
TZNAME:CDT
DTSTART:20260308T080000
END:DAYLIGHT
BEGIN:STANDARD
TZOFFSETFROM:-0500
TZOFFSETTO:-0600
TZNAME:CST
DTSTART:20261101T070000
END:STANDARD
BEGIN:DAYLIGHT
TZOFFSETFROM:-0600
TZOFFSETTO:-0500
TZNAME:CDT
DTSTART:20270314T080000
END:DAYLIGHT
BEGIN:STANDARD
TZOFFSETFROM:-0500
TZOFFSETTO:-0600
TZNAME:CST
DTSTART:20271107T070000
END:STANDARD
END:VTIMEZONE
BEGIN:VEVENT
DTSTART;TZID=America/Chicago:20260419T130000
DTEND;TZID=America/Chicago:20260419T160000
DTSTAMP:20260419T095102
CREATED:20260414T210852Z
LAST-MODIFIED:20260414T210852Z
UID:10004082-1776603600-1776614400@9milebrewing.com
SUMMARY:Boardgame Night w/ MidCoast Gaming
DESCRIPTION:Board Game Night — April 19thRoll the dice on a fun night out! We’re teaming up with MidCoast Gaming for Board Game Night \nNew to boardgames? No problem. Pros welcome too.👉 All experience levels welcome.👉 BOGO drink tokens for everyone who plays (yes\, really). \nGrab a table\, grab a beer\, and let the games begin. 🎲
URL:https://9milebrewing.com/event/boardgame-night-w-midcoast-gaming/
ATTACH;FMTTYPE=image/png:https://9milebrewing.com/wp-content/uploads/2026/04/Board-Game-Night-1.png
END:VEVENT
END:VCALENDAR