BEGIN:VCALENDAR
VERSION:2.0
PRODID:-//Nine Mile Brewing - ECPv6.15.20//NONSGML v1.0//EN
CALSCALE:GREGORIAN
METHOD:PUBLISH
X-WR-CALNAME:Nine Mile Brewing
X-ORIGINAL-URL:https://9milebrewing.com
X-WR-CALDESC:Events for Nine Mile Brewing
REFRESH-INTERVAL;VALUE=DURATION:PT1H
X-Robots-Tag:noindex
X-PUBLISHED-TTL:PT1H
BEGIN:VTIMEZONE
TZID:America/Chicago
BEGIN:DAYLIGHT
TZOFFSETFROM:-0600
TZOFFSETTO:-0500
TZNAME:CDT
DTSTART:20250309T080000
END:DAYLIGHT
BEGIN:STANDARD
TZOFFSETFROM:-0500
TZOFFSETTO:-0600
TZNAME:CST
DTSTART:20251102T070000
END:STANDARD
BEGIN:DAYLIGHT
TZOFFSETFROM:-0600
TZOFFSETTO:-0500
TZNAME:CDT
DTSTART:20260308T080000
END:DAYLIGHT
BEGIN:STANDARD
TZOFFSETFROM:-0500
TZOFFSETTO:-0600
TZNAME:CST
DTSTART:20261101T070000
END:STANDARD
BEGIN:DAYLIGHT
TZOFFSETFROM:-0600
TZOFFSETTO:-0500
TZNAME:CDT
DTSTART:20270314T080000
END:DAYLIGHT
BEGIN:STANDARD
TZOFFSETFROM:-0500
TZOFFSETTO:-0600
TZNAME:CST
DTSTART:20271107T070000
END:STANDARD
END:VTIMEZONE
BEGIN:VEVENT
DTSTART;TZID=America/Chicago:20260418T110000
DTEND;TZID=America/Chicago:20260418T140000
DTSTAMP:20260424T085241
CREATED:20260324T192615Z
LAST-MODIFIED:20260324T192615Z
UID:10004062-1776510000-1776520800@9milebrewing.com
SUMMARY:Morel Mushroom Class w/ The Gentleman Forager
DESCRIPTION:About the event\n\n\n\nJoin Gentleman Forager for a one-of-a-kind spring mushroom experience—part foraging class\, part culinary event\, and part social gathering. \nMorel season is right around the corner\, and this class is designed to give you the confidence to go out and actually find them. Along the way\, you’ll also learn to identify other key spring mushrooms including oyster\, pheasant back\, chicken of the woods\, and puffballs. \n \nHosted at Nine Mile Brewing Company\, this immersive 3-hour experience blends expert instruction with a relaxed\, food-driven atmosphere. Mushroom pizza and beverages are served throughout the class\, creating a social\, laid-back environment where you can learn\, eat\, and enjoy the experience all at the same time. \n \nGuests will be treated to a rotating series of pizzas featuring morels\, oyster mushrooms\, and other “wild” ingredients—bringing the flavors of the forest directly to the table. \n \nLed by professional forager and instructor Mike Kempenich\, this is an open\, interactive class where questions are encouraged throughout and answered with real-world\, field-tested insight. \n \nWhether you’re brand new to foraging or looking to sharpen your skills\, this experience is designed to be both approachable and deeply informative—without losing the fun of it. \n \nWhat You’ll Experience:\n\n\nA 3-hour guided mushroom class focused on spring species \n\n\nHow to confidently identify Morels and other key spring mushrooms \n\n\nReal-world insights on where\, when\, and how to find them \n\n\nA curated mushroom pizza tasting served throughout the class\, featuring morels\, oyster mushrooms\, and other wild-inspired ingredients \n\n\nTwo beverages of your choice (beer\, soda\, coffee\, or Headwater functional mushroom beverage) \n\n\nAccess to exclusive online class materials \n \n\n\n \nThese classes typically fill quickly as Morel season approaches. \nTickets:\n\n\nEarly Bird (through April 1): $100 \n\n\nStandard Ticket: $115 \n\n\nLimited to 50 guests
URL:https://9milebrewing.com/event/morel-mushroom-class-w-the-gentleman-forager/
ATTACH;FMTTYPE=image/avif:https://9milebrewing.com/wp-content/uploads/2026/03/mushroom-clas.avif
END:VEVENT
END:VCALENDAR